BEGIN:VCALENDAR
VERSION:2.0
PRODID:-//Your Site//Events//EN
CALSCALE:GREGORIAN
METHOD:PUBLISH
BEGIN:VEVENT
UID:69e441d174bb5@hacpac.org
DTSTAMP:20260419T024537Z
DTSTART:20260919T200000
DTEND:20260919T213000
SUMMARY:Joe Fernandes &#8211; PAC the House
DESCRIPTION:Get ready to laugh! The PAC the House series returns on September 19th at 8:00 PM for a spectacular night of stand-up comedy. Headlining the evening is Joe Fernandes, a comedian, actor, filmmaker and co-host of the All In Our Heads Podcast and Joe&#8217;s current podcast: If You Would&#8217;ve Told Me. Joe&#8217;s open book approach [&hellip;]\n\nTickets: $35
LOCATION:The Hackensack Meridian Health Theatre
URL:$35
END:VEVENT
END:VCALENDAR
