BEGIN:VCALENDAR
VERSION:2.0
PRODID:-//Your Site//Events//EN
CALSCALE:GREGORIAN
METHOD:PUBLISH
BEGIN:VEVENT
UID:69e94eac03ad4@hacpac.org
DTSTAMP:20260422T224148Z
DTSTART:20260613T150000
DTEND:20260613T163000
SUMMARY:Glow Up
DESCRIPTION:Glow Up: Royal Dance Studio 20th Anniversary Performance\n\nTickets: $15
LOCATION:The Hackensack Meridian Health Theatre
URL:$15
END:VEVENT
END:VCALENDAR
