BEGIN:VCALENDAR
VERSION:2.0
PRODID:-//Your Site//Events//EN
CALSCALE:GREGORIAN
METHOD:PUBLISH
BEGIN:VEVENT
UID:69e94d9ab5a82@hacpac.org
DTSTAMP:20260422T223714Z
DTSTART:20260613T180000
DTEND:20260613T193000
SUMMARY:Glow Up
DESCRIPTION:Glow Up: Royal Dance Studio 20th Anniversary Performance\n\nTickets: $15
LOCATION:The Hackensack Meridian Health Theatre
URL:$15
END:VEVENT
END:VCALENDAR
